BEGIN:VCALENDAR
VERSION:2.0
CALSCALE:GREGORIAN
PRODID:-//MyApp//Calendar 1.0//EN
BEGIN:VEVENT
METHOD:PUBLISH
UID:59257@regionalniportaly.cz
DTSTAMP:20260422T151903Z
DTSTART;VALUE=DATE:20251026
DTEND;VALUE=DATE:20251027
SUMMARY:Studentský Halloween
DESCRIPTION:Studentský Halloween 2025Užij si temnou noc plnou hudby\, masek a zábavy!V neděli 26. 10. — druhý den jsou podzimní prázdniny\, takže žádné výmluvy!Přijď v masce a získej drink na baru zdarmaNa místě bude fotokoutek\, kde si odneseš stylové fotky z večera!Těšit se můžeš na 4 DJs všech hudebních stylů:Offbeat\, Mett\, Varmix a Marbix!&nbsp\;Vstupenky v předprodeji za zvýhodněnou cenu – počet je omezen!&nbsp\;
LOCATION:Nový Šaldorf-Sedlešovice
END:VEVENT
END:VCALENDAR