BEGIN:VCALENDAR
VERSION:2.0
CALSCALE:GREGORIAN
PRODID:-//MyApp//Calendar 1.0//EN
BEGIN:VEVENT
METHOD:PUBLISH
UID:59288@regionalniportaly.cz
DTSTAMP:20260422T113224Z
DTSTART;VALUE=DATE:20251212
DTEND;VALUE=DATE:20251213
SUMMARY:Už jsme doma Na Věčnosti
DESCRIPTION:Skupina Už jsme doma slaví 40 let tvorby a existence! Jak v České republice\, tak v zahraničí není podobná hudba\, jakou UJD hraje\, k nalezení. Je punkově divoká\, naléhavá\, zároveň kompozičně náročná\, do detailu propracovaná s nadčasovými texty. Typický je zvuk trubky\, sbory\, neuvěřitelné tempo a živá vystoupení\, která oplývají silnou energií a humorem. Snad i proto jejich publikum s nimi nestárne.Složení kapely:Miroslav Wanek – kytara\, klávesy\, zpěvPepa Červinka – basa\, zpěvAdam Tomášek – trubka\, zpěvVojtěch Bořil – bicí\, tlesk\, brek
LOCATION:Znojmo
END:VEVENT
END:VCALENDAR