BEGIN:VCALENDAR
VERSION:2.0
CALSCALE:GREGORIAN
PRODID:-//MyApp//Calendar 1.0//EN
BEGIN:VEVENT
METHOD:PUBLISH
UID:59291@regionalniportaly.cz
DTSTAMP:20260422T113150Z
DTSTART;VALUE=DATE:20251129
DTEND;VALUE=DATE:20251130
SUMMARY:Budoár staré dámy Na Věčnosti
DESCRIPTION:Věčně mladá a věčně šílená alternativa z Brna s nezaměnitelnou energií\, rozjásá i dojme konečně ve Znojmě!
LOCATION:Znojmo
END:VEVENT
END:VCALENDAR