BEGIN:VCALENDAR
VERSION:2.0
CALSCALE:GREGORIAN
PRODID:-//MyApp//Calendar 1.0//EN
BEGIN:VEVENT
METHOD:PUBLISH
UID:59735@regionalniportaly.cz
DTSTAMP:20260422T113352Z
DTSTART;VALUE=DATE:20251210
DTEND;VALUE=DATE:20251211
SUMMARY:Poločas Martiny Preissové - křest knihy a oslava jubilea
DESCRIPTION:Srdečně vás zveme na křest knihy Martiny Preissové Tvá M.&nbsp\;Program:18:00 neoficiální zahájení akce\, setkání s&nbsp\;přáteli\, občerstvení19:00 zahájení oficiálního programuOblíbené melodie hlavní aktérky vystřídá čtení z&nbsp\;nové knihy Tvá M. a pohled do rodinných fotek ze života znojemské herečky\, zpěvačky a spisovatelky Martiny Preissové\, která v&nbsp\;těchto dnech oslavila 50 let.Kmotra knihy: Pavla Beretová – herečka&nbsp\;Speciální hosté:Dáša Zázvůrková – zpěvačka\, herečka\, skladatelka&nbsp\;Anna Habancová – cimbalistka\, ředitelka KD StrážničanMatouš Preiss a Natálie Pajerová – mladé nejen hudební nadějeBěhem akce bude k&nbsp\;dispozici víno z&nbsp\;rodinného vinařství U Stehlíků a drobné občerstvení.„Těším se na Tebe. Tvá M.“&nbsp\;
LOCATION:Znojmo
END:VEVENT
END:VCALENDAR