BEGIN:VCALENDAR
VERSION:2.0
CALSCALE:GREGORIAN
PRODID:-//MyApp//Calendar 1.0//EN
BEGIN:VEVENT
METHOD:PUBLISH
UID:60258@regionalniportaly.cz
DTSTAMP:20260420T083656Z
DTSTART;VALUE=DATE:20260523
DTEND;VALUE=DATE:20260524
SUMMARY:Travesti Divoké kočky ve Znojmě
DESCRIPTION:Travesti skupina Divoké kočky z Ostravy přijíždí v rámci svého&nbsp\;turné se svým novým programem do&nbsp\;Dobšic u Znojma\, kde vystoupí 23.5.2026&nbsp\;od&nbsp\;19:00 v sokolovně TJ Sokol Dobšice.Celovečerní&nbsp\;zábavný program&nbsp\;je plný nezapomenutelných legračních scének\, písniček\, známých zpěvaček\, krásných kostýmů\, situačního humoru a hlavně smíchu a je vhodný jak pro ženské tak pánské publikum. Jejich vystoupení se těší stálé větší oblibě a tak si každý divák přijde na své. Přijdte se sami přesvědčit\, že na travesti představení není nic špatného a v podání ostravských umělců se budete určitě dobře bavit. Divoké kočky již v minulosti ve Znojmě a Dobšicích již&nbsp\;několikrát učinkovali&nbsp\;se svým celovečerním programem\, a proto se těší opět na úžasné místní publikum\, atmosféru a skvělý&nbsp\;večer. Na závěr programu Vám členové souboru ukážou svou pravou tvář.
LOCATION:Dobšice
END:VEVENT
END:VCALENDAR