BEGIN:VCALENDAR
VERSION:2.0
CALSCALE:GREGORIAN
PRODID:-//MyApp//Calendar 1.0//EN
BEGIN:VEVENT
METHOD:PUBLISH
UID:60305@regionalniportaly.cz
DTSTAMP:20260422T121150Z
DTSTART;VALUE=DATE:20260116
DTEND;VALUE=DATE:20260117
SUMMARY:Novoroční koncert Stadtmusik Hollabrunn (AT)
DESCRIPTION:Tradiční Novoroční koncert Stadtmusik Hollabrunn jehož výtěžek je věnován na podporu dvojjazyčné mateřské Školky bez hranic v Dolnorakouském Mitterretzbachu.
LOCATION:Znojmo
END:VEVENT
END:VCALENDAR