BEGIN:VCALENDAR
VERSION:2.0
CALSCALE:GREGORIAN
PRODID:-//MyApp//Calendar 1.0//EN
BEGIN:VEVENT
METHOD:PUBLISH
UID:60407@regionalniportaly.cz
DTSTAMP:20260422T112912Z
DTSTART;VALUE=DATE:20251126
DTEND;VALUE=DATE:20251127
SUMMARY:Gilad Atzmon EU 4-tet "Praying for More Songs to Come"
DESCRIPTION:V rámci turné k vydání nového alba "Praying for More Songs to Come"\, zavítá evropské kvarteto saxofonisty Gilada Atzmona i do Znojma. Nenechte si ujít večer plný strhující hudby a humoru v podání jednoho z nejuznávanějších evropských saxofonistů a jeho špičkové mezinárodní kapely!
LOCATION:Znojmo
END:VEVENT
END:VCALENDAR