BEGIN:VCALENDAR
VERSION:2.0
CALSCALE:GREGORIAN
PRODID:-//MyApp//Calendar 1.0//EN
BEGIN:VEVENT
METHOD:PUBLISH
UID:60489@regionalniportaly.cz
DTSTAMP:20260422T113055Z
DTSTART;VALUE=DATE:20251213
DTEND;VALUE=DATE:20251214
SUMMARY:MČR seniorů v deseti tancích a seniorská taneční liga
DESCRIPTION:Taneční skupina Single Znojmo&nbsp\;ve spolupráci s&nbsp\;Infinity Dance Team Brno&nbsp\;pořádá&nbsp\;Mistrovství České republiky seniorů v deseti tancích.Těšte se na&nbsp\;exkluzivní taneční výkony&nbsp\;a mnoho dalších skvostných tanečních show.Co vás čeká:Mistrovství republiky v deseti tancíchJedinečná taneční ligaExkluzivní galavečer plný nezapomenutelné zábavyZnámé osobnosti tanečního světaUnikátní taneční showZajistěte si své místo na této grandiózní akci\, která se zapíše do historie znojemského tance. Přijďte podpořit naše mistry v tanci a užít si mimořádnou show!
LOCATION:Znojmo
END:VEVENT
END:VCALENDAR