BEGIN:VCALENDAR
VERSION:2.0
CALSCALE:GREGORIAN
PRODID:-//MyApp//Calendar 1.0//EN
BEGIN:VEVENT
METHOD:PUBLISH
UID:60558@regionalniportaly.cz
DTSTAMP:20260422T121043Z
DTSTART;VALUE=DATE:20251222
DTEND;VALUE=DATE:20251223
SUMMARY:Winter Beats 2025
DESCRIPTION:Připrav se na největší zimní prázdninovou party!&nbsp\;22.12. v našem oblíbeném prostoru se rozezní hity z playlistů i TikToku\, smíchané se zimními remixy\, světelnou show a konfety. Přijď si zatancovat\, potkat kamarády a užít si atmosféru\, která rozpálí celé prázdniny!Co tě čeká:Hlavní DJ set plný hitů a zimních remixůLED světla\, bubliny a konfetyFotokoutek se zimními rekvizitamiSoutěže o nejlepší zimní outfit a taneční battle📅 Datum: pondělí 22.12.2025🕖 Čas: od 21:00📍 Místo: Nový Šaldorf - Sedlešovice Modré Sklepy (sál)🎫 Předprodej:&nbsp\;vstupenky online (4&nbsp\;vlny předprodeje) nebo na místě\, místa jsou omezená – nenech si ujít!🌟 Přijď\, zatancuj a oslav s námi Winter Beats 2025 – zimní party\, na kterou jen tak nezapomeneš!
LOCATION:Nový Šaldorf-Sedlešovice
END:VEVENT
END:VCALENDAR