BEGIN:VCALENDAR
VERSION:2.0
CALSCALE:GREGORIAN
PRODID:-//MyApp//Calendar 1.0//EN
BEGIN:VEVENT
METHOD:PUBLISH
UID:60688@regionalniportaly.cz
DTSTAMP:20260420T070436Z
DTSTART;VALUE=DATE:20251227
DTEND;VALUE=DATE:20251231
SUMMARY:Vánoční období na vranovském zámku
DESCRIPTION:Komentované prohlídky reprezentačními interiéry ve vánočním duchu. Připomeňme si společně období Vánoc a Nového roku na panském sídle v druhé polovině 19. století a na počátku 20. století. Během prohlídky návštěvníci srovnají adventní život dnes a v dobách\, kdy na zámku žila hraběcí rodina.\nAkce „Vánoční období na zámku“ se koná na Státním zámku Vranov nad Dyjí v termínu 27.–31. prosince\, vždy od 10:00 do 14:00 hod. Návštěvníci se mohou těšit na komentované prohlídky svátečně vyzdobených interiérů zámku\, kde uvidí slavnostně prostřenou jídelnu\, historický mobiliář a seznámí se s vánočními tradicemi šlechty na přelomu 19. a 20. století.\nNa nádvoří zámku\, kde je vstup zdarma\, budou připraveny trdelníky pečené na dřevěném uhlí\, ochutnávka vín z rodinného vinařství a teplý svařák či domácí dobroty. Doprovodný program zahrnuje poutavé čísla kejklíře Čabika ve dnech 27.–28. prosince a vystoupení Mužského sboru Tasovjáci 30. prosince.\nVstupenky do zámku jsou k dispozici online nebo na pokladně zámku. Více informací najdete na https://www.zamek-vranov.cz/cs/akce/120622-vanocni-obdobi-na-vranovskem-zamku.\n
LOCATION:Vranov nad Dyjí
END:VEVENT
END:VCALENDAR