BEGIN:VCALENDAR
VERSION:2.0
CALSCALE:GREGORIAN
PRODID:-//MyApp//Calendar 1.0//EN
BEGIN:VEVENT
METHOD:PUBLISH
UID:60699@regionalniportaly.cz
DTSTAMP:20260422T150321Z
DTSTART;VALUE=DATE:20260306
DTEND;VALUE=DATE:20260307
SUMMARY:Alpha Trianguli (AT)
DESCRIPTION:Kapela je silně inspirována krásou a&nbsp\;rozlehlostí vesmíru. Čtyři hudebníci z&nbsp\;Vídně se&nbsp\;rádi vydávají na&nbsp\;cestu do&nbsp\;nekonečna zvukových světů a&nbsp\;nechávají se&nbsp\;jimi unést. Někdy zemitě a&nbsp\;energicky – jako by se&nbsp\;blížili k&nbsp\;planetě – jindy klidně\, lehce nadnášeni zvědavostí při&nbsp\;objevování nových světů. Jsou sami sobě mikrokosmem. Kolem gravitačního pole kontrabasu\, periodicky obíhají rytmy bicích\, magický jiskřící zvuk vibrafonu vyplňuje prázdné prostory\, do&nbsp\;kterých se&nbsp\;rozeznívá zemitý a&nbsp\;teplý tón pozounu jako hlas vypuštěný do&nbsp\;prostoru.Na konci roku 2023 vydalo kvarteto ALPHA TRIANGULI své první album s&nbsp\;názvem „Entering Zero Gravity“ u&nbsp\;švýcarského labelu Unit Records.Účinkující:Alois Eberl –&nbsp\;trombonFlorian Klinger –&nbsp\;vibrafonPhilipp Kienberger –&nbsp\;kontrabasJakob Kammerer –&nbsp\;bicí&nbsp\;
LOCATION:Znojmo
END:VEVENT
END:VCALENDAR