BEGIN:VCALENDAR
VERSION:2.0
CALSCALE:GREGORIAN
PRODID:-//MyApp//Calendar 1.0//EN
BEGIN:VEVENT
METHOD:PUBLISH
UID:60700@regionalniportaly.cz
DTSTAMP:20260422T151831Z
DTSTART;VALUE=DATE:20260204
DTEND;VALUE=DATE:20260205
SUMMARY:Libor Šmoldas Organ Trio (CZ)
DESCRIPTION:Kytarista Libor Šmoldas si ke&nbsp\;spolupráci přizval vynikajícího varhaníka Jakuba Zomera\, jehož popularita u&nbsp\;českého jazzového publika neustále roste\, a&nbsp\;bubeníka Daniela Šoltise známého například z&nbsp\;kapel Vertigo nebo -123 Minut. Kapela vás překvapí přívalem pozitivní energie\, s&nbsp\;níž hraje vlastní skladby vycházející nejen z&nbsp\;jazzové tradice\, ale i&nbsp\;z blues\, funku a&nbsp\;soulu šedesátých let. O&nbsp\;charakteristický zvuk tria se&nbsp\;starají kromě Liborovy kytary a&nbsp\;skvěle zvládnutých bicích především autentické varhany Hammond B3 – nástroj legendární\, ale v&nbsp\;našich krajích stále vzácný.Účinkující:Libor Šmoldas&nbsp\;– kytaraJakub Zomer&nbsp\;– hammondyDaniel Šoltis&nbsp\;– bicí
LOCATION:Znojmo
END:VEVENT
END:VCALENDAR