BEGIN:VCALENDAR
VERSION:2.0
CALSCALE:GREGORIAN
PRODID:-//MyApp//Calendar 1.0//EN
BEGIN:VEVENT
METHOD:PUBLISH
UID:60703@regionalniportaly.cz
DTSTAMP:20260422T112538Z
DTSTART;VALUE=DATE:20260322
DTEND;VALUE=DATE:20260323
SUMMARY:Stefan Orins Trio (FR)
DESCRIPTION:Jazzová formace Stefan Orins Trio prezentuje hudbu ovlivněnou skandinávským jazzem a&nbsp\;nabízí též návrat k&nbsp\;hudbě Keitha Jarretta ze&nbsp\;70. let. Autorská tvorba a&nbsp\;interpretační mistrovství lídra a&nbsp\;klavíristy Stefana Orinse doplňují Gauthier Dubuis na&nbsp\;kontrabas a&nbsp\;Tristan Orins na&nbsp\;bicí. Kdo očekává klasickou hudební produkci v&nbsp\;sestavě klavír-kontrabas-bicí\, bude velmi mile překvapen vzájemnou hudební komunikací členů tohoto jazzového seskupení z&nbsp\;Francie.Účinkující:Stefan Orins&nbsp\;– klavírGauthier Dubuis&nbsp\;– kontrabasTristan Orins&nbsp\;– bicí
LOCATION:Znojmo
END:VEVENT
END:VCALENDAR