BEGIN:VCALENDAR
VERSION:2.0
CALSCALE:GREGORIAN
PRODID:-//MyApp//Calendar 1.0//EN
BEGIN:VEVENT
METHOD:PUBLISH
UID:60704@regionalniportaly.cz
DTSTAMP:20260422T101923Z
DTSTART;VALUE=DATE:20260311
DTEND;VALUE=DATE:20260312
SUMMARY:Tom Killner Band (UK)
DESCRIPTION:Tom Killner\, mladý\, ale již vysoce ceněný zpěvák a&nbsp\;kytarista\, se&nbsp\;pohybuje na&nbsp\;pomezí žánrů jako jsou: soul\, blues\, jižanský rock\, country a&nbsp\;americana. Svou vysoce dynamickou show získává stále nové publikum jak ve&nbsp\;Velké Británii\, tak v&nbsp\;celé Evropě. Jeho koncerty jsou horkou kombinací svižných riffů a&nbsp\;procítěných písní z&nbsp\;Tomova zpěvníku. Na&nbsp\;začátku své kariéry podepsal Tom smlouvu s&nbsp\;vydavatelstvím Cleopatra Records se&nbsp\;sídlem v&nbsp\;Los Angeles a&nbsp\;vydal dvě alba „Hard Road“ a&nbsp\;„Live“. Jeho nezávislé nahrávky „Get Back Up“\, „Church House Sessions“ a&nbsp\;singl „Home“ byly přijaty s&nbsp\;velkým ohlasem u&nbsp\;kritiky\, byly pozitivně hodnoceny v&nbsp\;mnoha hudebních časopisech a&nbsp\;získaly skvělé recenze jak mezinárodním radiovém vysílání\, tak na&nbsp\;rádiu BBC.Účinkující:Tom Killner –&nbsp\;kytara\, zpěvWes Brook&nbsp\;– klávesy\, hammondyCallum Houghton&nbsp\;– baskytaraRich Hunter&nbsp\;– bicí
LOCATION:Znojmo
END:VEVENT
END:VCALENDAR