BEGIN:VCALENDAR
VERSION:2.0
CALSCALE:GREGORIAN
PRODID:-//MyApp//Calendar 1.0//EN
BEGIN:VEVENT
METHOD:PUBLISH
UID:60705@regionalniportaly.cz
DTSTAMP:20260422T133237Z
DTSTART;VALUE=DATE:20260211
DTEND;VALUE=DATE:20260212
SUMMARY:Will Wilde (UK) & The Bladderstones (CZ)
DESCRIPTION:Opravdové bluesové eso z&nbsp\;Velké Británie. Díky svému unikátnímu ladění bluesové harmoniky je zpěvák Will Wilde jedním z&nbsp\;nejosobitějších britských umělců. Jeho styl čerpá ze&nbsp\;hry Jimmyho Page\, Ritchieho Blackmorea či&nbsp\;Sonnyho Boye Williamsona\, a&nbsp\;pro fanouška klasického blues může být překvapením\, ovšem příjemným. Nepropásněte jedinečnou šanci vidět účastníka legendárního festivalu Legendary Rhythm &amp\; Blues Cruise v&nbsp\;doprovodu českého art-bluesového tria The Bladderstones!Účinkující:Will Wilde&nbsp\;(UK) – zpěv\, kytara\, harmonikaTomáš Frolík&nbsp\;– kytara\, zpěvJohnny Judl&nbsp\;– baskytara\, zpěvMichael Nosek&nbsp\;– bicí\, zpěv
LOCATION:Znojmo
END:VEVENT
END:VCALENDAR