BEGIN:VCALENDAR
VERSION:2.0
CALSCALE:GREGORIAN
PRODID:-//MyApp//Calendar 1.0//EN
BEGIN:VEVENT
METHOD:PUBLISH
UID:60780@regionalniportaly.cz
DTSTAMP:20260422T121023Z
DTSTART;VALUE=DATE:20260116
DTEND;VALUE=DATE:20260117
SUMMARY:Jazzový víkend v klubech: David Kudrna Quartet (CZ)
DESCRIPTION:David založil svůj kvartet před&nbsp\;několika lety na&nbsp\;konzervatoři J. Ježka. Hudebně je kapela ovlivněna dravým fusion 80. let na&nbsp\;rozhraní jazzu. V&nbsp\;autorských písních je cítit inspirace a&nbsp\;vztah k&nbsp\;umělcům\, jako jsou Dave Weckl\, Michael Brecker či&nbsp\;John McLaughlin.Účinkující:David Kudrna –&nbsp\;saxofonAndrej Hrubčo&nbsp\;– klávesyMarek Žemla&nbsp\;– baskytaraDavid Kašuba&nbsp\;– bicí
LOCATION:Znojmo
END:VEVENT
END:VCALENDAR