BEGIN:VCALENDAR
VERSION:2.0
CALSCALE:GREGORIAN
PRODID:-//MyApp//Calendar 1.0//EN
BEGIN:VEVENT
METHOD:PUBLISH
UID:60782@regionalniportaly.cz
DTSTAMP:20260422T151853Z
DTSTART;VALUE=DATE:20260127
DTEND;VALUE=DATE:20260128
SUMMARY:Will Johns (UK)
DESCRIPTION:Will Johns je uznáván jako jeden z&nbsp\;nejvýraznějších a&nbsp\;nejzajímavějších umělců na&nbsp\;dnešní britské bluesové scéně. Jeho hra na&nbsp\;kytaru je moderní\, ale zároveň respektuje i&nbsp\;bohatou historii blues. Zkušenosti a&nbsp\;dovednosti\, které přecházejí z&nbsp\;generace na&nbsp\;generaci\, jsou zde jednoznačně zachovány\, protože Will má přímou spojnici na&nbsp\;zlaté časy hudby –&nbsp\;jeho strýci jsou&nbsp\;(či byli)&nbsp\;Eric Clapton\, George Harrison&nbsp\;a&nbsp\;Mick Fleedwood!&nbsp\;Od patnácti let se&nbsp\;Will sám učil na&nbsp\;kytaru\, ale s&nbsp\;obrovskou podporou svého světově proslulého strýce\, bluesmana Erica Claptona. Will Johns má zkrátka BLUES v&nbsp\;žilách!&nbsp\;Účinkující:Will Johns&nbsp\;(UK) – kytaraTomáš Liška&nbsp\;– baskytaraTomáš Hobzek&nbsp\;– bicí
LOCATION:Znojmo
END:VEVENT
END:VCALENDAR