BEGIN:VCALENDAR
VERSION:2.0
CALSCALE:GREGORIAN
PRODID:-//MyApp//Calendar 1.0//EN
BEGIN:VEVENT
METHOD:PUBLISH
UID:60808@regionalniportaly.cz
DTSTAMP:20260422T113035Z
DTSTART;VALUE=DATE:20251213
DTEND;VALUE=DATE:20251214
SUMMARY:Dukla + Chora Sfakion
DESCRIPTION:DuklaPražské trio Dukla přísahá na sílu melodií a poetiku českých textů. Jedna z nejoblíbenějších kapel české alternativní/indie scény má kořeny na pražské scéně z poloviny minulé dekády\, Dukla vznikla\, když se Lukáš Vydra a Josef Hradilek rozhodli skončit s anglickými texty a přimknuli se k tradici českého písničkářství. Generační hity I.P. Pavlova\, Holka se psem nebo Dny vypráví o nešťastných láskách nebo všeprostupující úzkosti. V jejich popových smuténkách jsou slyšel ohlasy na Petra Nováka i Spiritual Kvintet\, zatím poslední album Stejný lepší ale také duní klubovými beaty a hostuje na něm rapper TK27. Koncert ve Znojmě bude je součástí turné k čertstvě vydanému EP Další rok.Chora SfakionPost-punková naděje ze Znojma. Kvarteto v čele s charismatickou zpěvačkou Michaelou Frindovou se vynořilo z komunity kolem klubu Gogo\, se skladbou Sýrovka úspěšně bodovali ve Startéru Radia Wave a zakotvili na Indies Scope\, kde na jaře vychází jejich debut. Chora Sfakion existují jen dva roky\, ale už stihli ohromit (nejen) brněnskou scénu – v Praze předskakovali třeba skupině Tomáš Palucha. Hrají výbušnou směs post-punku\, noise rocku a no-wave\, sami svůj osobitý zvuk popisují jako gastropunk\, což odráží jejich lásku k jídlu všeho druhu.
LOCATION:Znojmo
END:VEVENT
END:VCALENDAR