BEGIN:VCALENDAR
VERSION:2.0
CALSCALE:GREGORIAN
PRODID:-//MyApp//Calendar 1.0//EN
BEGIN:VEVENT
METHOD:PUBLISH
UID:60809@regionalniportaly.cz
DTSTAMP:20260422T121013Z
DTSTART;VALUE=DATE:20260117
DTEND;VALUE=DATE:20260118
SUMMARY:Jazzový víkend v klubech: Charlie Slavík Revue (CZ)
DESCRIPTION:Charlie Slavík je nejuznávanější hráč na&nbsp\;foukací harmoniku v&nbsp\;České republice. Jako jediný český hudebník se&nbsp\;zúčastnil prestižní mezinárodní bluesové soutěže IBC v&nbsp\;americkém Memphisu\, kde se&nbsp\;probojoval až do&nbsp\;semifinále. Jeho schopnost používat harmoniku napříč všemi žánry je dobře zdokumentována na&nbsp\;řadě nahrávek\, na&nbsp\;kterých se&nbsp\;podílel jako sólista.Charlie už více než dvacet pět let úspěšně a&nbsp\;s obrovským ohlasem představuje domácímu i&nbsp\;evropskému publiku rock´n´roll a&nbsp\;blues ve&nbsp\;všech odstínech těchto uhrančivých žánrů. Jeho hudba je nekompromisně pulzující\, živelná\, hraná s&nbsp\;nespoutanou energií. Zatím poslední autorské CD „A Nice Reminder“ pořídil s&nbsp\;renomovanými americkými hudebníky ve&nbsp\;slavném studiu Sound Emporium v&nbsp\;Nashville\, TN.Účinkující:Charlie Slavík&nbsp\;– harmonika\, zpěvTomáš Frolík&nbsp\;– kytara\, zpěvLukáš Mandlík&nbsp\;– basa\, zpěvMarcus Jurkovič&nbsp\;– bicí
LOCATION:Znojmo
END:VEVENT
END:VCALENDAR