BEGIN:VCALENDAR
VERSION:2.0
CALSCALE:GREGORIAN
PRODID:-//MyApp//Calendar 1.0//EN
BEGIN:VEVENT
METHOD:PUBLISH
UID:60814@regionalniportaly.cz
DTSTAMP:20260420T064901Z
DTSTART;VALUE=DATE:20251206
DTEND;VALUE=DATE:20251207
SUMMARY:Čertovské koštování ve Vrbovci
DESCRIPTION:Koštování vín ve vánočně naladěných otevřených sklepech vám zpestří potulná skupina veselých čertů\, která se bude pohybovat ze sklepa do sklepa. Postaráno bude také o občerstvení nebo zahřátí u ohňů. Horký svařák\, voňavé cukroví a drobné dárečky - to vše dokreslí předvánoční atmosféru.\nVstupenky na akci lze zakoupit v den konání v místě pouze za hotovost.\nVstupné činí 200 Kč\, sklenka s logem Cechu vinařů je k zakoupení zvlášť za 50 Kč. Bločky na degustace vín lze zakoupit v libovolném množství. Akce není dotována\, zakoupením vstupného příspíváte na její organizační zajištění. Posílená autobusová linka ze Znojma a zpět zdarma.\nÚčastí na akci souhlasíte s pořízením multimediálních záznamů a jejich použitím k propagaci. 
LOCATION:Vrbovec
END:VEVENT
END:VCALENDAR