BEGIN:VCALENDAR
VERSION:2.0
CALSCALE:GREGORIAN
PRODID:-//MyApp//Calendar 1.0//EN
BEGIN:VEVENT
METHOD:PUBLISH
UID:60823@regionalniportaly.cz
DTSTAMP:20260422T110058Z
DTSTART;VALUE=DATE:20260117
DTEND;VALUE=DATE:20260118
SUMMARY:Jazzový víkend v klubech: Futur Swing (CZ)
DESCRIPTION:Oproti klasickému swingovému revivalu nejde jen o&nbsp\;udržování tradice\, ale také o&nbsp\;objevování nových cest v&nbsp\;interpretaci a&nbsp\;improvizaci. S&nbsp\;výrazným využitím houslí\, saxofonu a&nbsp\;netradičního kytarového banja přináší Futur Swing do&nbsp\;žánru nový zvukový rozměr. Jejich kreativní přístup k&nbsp\;improvizaci reflektuje nejen techniky Django Reinhardta\, ale také se&nbsp\;odváží zkoumat moderní harmonie a&nbsp\;rytmické struktury. Futur Swing není pouze nostalgickou cestou do&nbsp\;minulosti\, ale mostem spojujícím tradiční prvky gypsy swingu s&nbsp\;novou érou. Skrze jejich hru posluchači nejen vnímají dědictví Reinhardta\, ale také procházejí novými a&nbsp\;osvěžujícími zvukovými krajinami\, které nám přináší moderní interpretace tohoto kultovního žánru.Účinkující:Milan Kárník Jakeš&nbsp\;– housleMichal Wróblewski&nbsp\;– alt saxofonMartin Hrubec&nbsp\;– kytaraOndřej Komárek&nbsp\;– kontrabas
LOCATION:Znojmo
END:VEVENT
END:VCALENDAR