BEGIN:VCALENDAR
VERSION:2.0
CALSCALE:GREGORIAN
PRODID:-//MyApp//Calendar 1.0//EN
BEGIN:VEVENT
METHOD:PUBLISH
UID:60831@regionalniportaly.cz
DTSTAMP:20260422T161304Z
DTSTART;VALUE=DATE:20260212
DTEND;VALUE=DATE:20260213
SUMMARY:Miroslav Táborský
DESCRIPTION:Beseda s populárním hercem a dabérem.
LOCATION:Znojmo
END:VEVENT
END:VCALENDAR