BEGIN:VCALENDAR
VERSION:2.0
CALSCALE:GREGORIAN
PRODID:-//MyApp//Calendar 1.0//EN
BEGIN:VEVENT
METHOD:PUBLISH
UID:61022@regionalniportaly.cz
DTSTAMP:20260422T110108Z
DTSTART;VALUE=DATE:20260116
DTEND;VALUE=DATE:20260117
SUMMARY:Jazzový víkend v klubech: Jazzy Talking (CZ)
DESCRIPTION:I na&nbsp\;malém městě se&nbsp\;dá hrát velký jazz. Jazzy Talking je jazzová kapela ze&nbsp\;Znojma\, která se&nbsp\;to nebojí rozbalit.Obsazení:Gizela Burská&nbsp\;– zpěvMichal Smrčka&nbsp\;– klavírLudvík Leischner&nbsp\;– saxofonKvětoslav Jagoš&nbsp\;– basová kytaraMartin Havlík&nbsp\;– bicí&nbsp\;
LOCATION:Znojmo
END:VEVENT
END:VCALENDAR