BEGIN:VCALENDAR
VERSION:2.0
CALSCALE:GREGORIAN
PRODID:-//MyApp//Calendar 1.0//EN
BEGIN:VEVENT
METHOD:PUBLISH
UID:61026@regionalniportaly.cz
DTSTAMP:20260422T121141Z
DTSTART;VALUE=DATE:20260226
DTEND;VALUE=DATE:20260227
SUMMARY:Marta Töpferová Trio (CZ)
DESCRIPTION:Jedna z nejunikátnějších zpěvaček a skladatelek své generace. Dcera českých herců se narodila v Ostravě a v roce 1987 emigrovala do Spojených států\, kde vyrůstala obklopena rozmanitými kulturními vlivy. Tato životní cesta ji přivedla ke zpěvu a tvorbě hudby čerpající nejen z jejích českých kořenů\, ale i z latinskoamerické hudby\, ke které si vytvořila hluboký vztah díky hispánské komunitě v USA. Martinina hudba se vyvinula v pozoruhodný mix latinskoamerického folklóru a výrazných českých vlivů.Obsazení:Marta Töpferová&nbsp\;– zpěv\, venezuelské cuatro\, kytara\, perkuseLadislav Muroň&nbsp\;– flétnyPeter Korman&nbsp\;– kontrabasTrio zpěvačky Marty Töpferové se&nbsp\;věnuje bohaté tradici latinskoamerických písní. Jejich repertoár se&nbsp\;skládá z&nbsp\;rytmů a&nbsp\;stylů jako chilská cueca\, argentinská chacarera a&nbsp\;zamba\, venezuelské joropo a&nbsp\;vals\, andské huayno i&nbsp\;výběru autorských písní. Ojedinělý sametový hlas Marty Töpferové s&nbsp\;vlastním doprovodem na&nbsp\;venezuelské cuatro a&nbsp\;perkuse spolu s&nbsp\;barevným doprovodem fléten Ladislava Muroně a&nbsp\;kontrabasu Petra Kormana je vskutku kombinace\, která přenese posluchače do&nbsp\;nevšední a&nbsp\;temperamentní hudební krajiny.
LOCATION:Znojmo
END:VEVENT
END:VCALENDAR