BEGIN:VCALENDAR
VERSION:2.0
CALSCALE:GREGORIAN
PRODID:-//MyApp//Calendar 1.0//EN
BEGIN:VEVENT
METHOD:PUBLISH
UID:61030@regionalniportaly.cz
DTSTAMP:20260422T121211Z
DTSTART;VALUE=DATE:20260122
DTEND;VALUE=DATE:20260123
SUMMARY:Jan Smigmator (CZ) & Scott Hamilton (US)
DESCRIPTION:Spojení zpěváka Jana Smigmatora s legendárním saxofonistou Scottem Hamiltonem přináší výjimečný hudební zážitek. Uznávaný český jazzový zpěvák Jan Smigmator má na svém kontě řadu úspěchů. Umělec\, který si zazpíval i v legendární Carnegie Hall\, vydal v roce 2024 zbrusu nové album Smigmator &amp\; Hamilton: Two Tenors\, na němž spojil síly s legendárním americkým saxofonistou Scottem Hamiltonem.Smigmator je zpěvák\, který na současné hudební scéně navazuje na odkaz swingových velikánů\, jakými byli Frank Sinatra či Tony Bennett.„Vždy jsem si přál zpívat tak\, jak na saxofon hraje můj nejoblíbenější saxofonista – geniální muzikant se srdcem na dlani\, pravověrný swingař Scott Hamilton. A opět se potvrzuje jediné: věří-li člověk v sebe a ve své sny\, úspěch je nevyhnutelný\,“ říká brzy čtyřicetiletý umělec\, který už nyní patří ke špičce nejen u nás\, ale i v Evropě.Účinkující:Jan Smigmator&nbsp\;– zpěvScott Hamilton&nbsp\;– tenor saxofonMikuláš Pokorný&nbsp\;– pianoMarek Urbánek&nbsp\;– bicíTomáš Baroš&nbsp\;– kontrabasJan Andr&nbsp\;– Hammondovy varhanyhosté:Big Bang ZUŠ Znojmo
LOCATION:Znojmo
END:VEVENT
END:VCALENDAR