BEGIN:VCALENDAR
VERSION:2.0
CALSCALE:GREGORIAN
PRODID:-//MyApp//Calendar 1.0//EN
BEGIN:VEVENT
METHOD:PUBLISH
UID:61080@regionalniportaly.cz
DTSTAMP:20260422T121429Z
DTSTART;VALUE=DATE:20260306
DTEND;VALUE=DATE:20260307
SUMMARY:Ivan Hlas Trio
DESCRIPTION:Ivan\, Olin a Norbi podeváté v Harvartu
LOCATION:Znojmo
END:VEVENT
END:VCALENDAR