BEGIN:VCALENDAR
VERSION:2.0
CALSCALE:GREGORIAN
PRODID:-//MyApp//Calendar 1.0//EN
BEGIN:VEVENT
METHOD:PUBLISH
UID:61081@regionalniportaly.cz
DTSTAMP:20260422T111628Z
DTSTART;VALUE=DATE:20260330
DTEND;VALUE=DATE:20260331
SUMMARY:Tváře Petra Rychlého
DESCRIPTION:Talkshow TVÁŘE PETRA RYCHLÉHOPetr Rychlý – jedna z&nbsp\;nejznámějších televizních tváří\, oblíbený divadelní herec\, populární moderátor\, bavič a příležitostný zpěvák vypráví historky nejen ze zákulisí divadla a televize. Během vystoupení baví diváky i svými hudebními čísly z&nbsp\;TV soutěže Tvoje tvář má známý hlas.
LOCATION:Znojmo
END:VEVENT
END:VCALENDAR