BEGIN:VCALENDAR
VERSION:2.0
CALSCALE:GREGORIAN
PRODID:-//MyApp//Calendar 1.0//EN
BEGIN:VEVENT
METHOD:PUBLISH
UID:61096@regionalniportaly.cz
DTSTAMP:20260422T133202Z
DTSTART;VALUE=DATE:20260126
DTEND;VALUE=DATE:20260127
SUMMARY:Jak vést dítě ke sportu: Spolupráce rodičů a trenérů
DESCRIPTION:Chceme-li\, aby se dítě zdravě vyvíjelo\, potřebuje vedení – trpělivé\, systematické a smysluplné. Sport je jednou z nejlepších cest\, jak toho dosáhnout. V určité chvíli se však k rodičům přidává trenér a do života dítěte vstupuje další důležitý dospělý.Jak skloubit jejich role? Jak vybrat vhodný sport? A jak spolu mají rodiče a trenéři komunikovat\, aby z toho dítě těžilo co nejvíc?O těchto tématech – a o spoustě zvídavých dotazů\, které zazní – bude přednáška Jiřího Haldy v rámci projektu Podej Ruku Sportu.----Jiří Halda je speciální pedagog\, lektor a poradce v oblasti rodinné a výchovné problematiky. Více než 25 let pracuje s dětmi\, rodiči i pedagogy a pomáhá jim lépe porozumět dětskému vývoji\, motivaci a zdravému vedení. Je autorem úspěšných knih: Maličkosti\, na které byste při výchově dětí neměli zapomínat\, V každé chvíli jste mi vzorem a Jsi tam\, brácho?&nbsp\;
LOCATION:Znojmo
END:VEVENT
END:VCALENDAR