BEGIN:VCALENDAR
VERSION:2.0
CALSCALE:GREGORIAN
PRODID:-//MyApp//Calendar 1.0//EN
BEGIN:VEVENT
METHOD:PUBLISH
UID:61275@regionalniportaly.cz
DTSTAMP:20260420T072435Z
DTSTART;VALUE=DATE:20260213
DTEND;VALUE=DATE:20260214
SUMMARY:Karol a Kvído – Pirátský poklad
DESCRIPTION:Nejoblíbenější dětská dvojice Karol a Kvído se vydává na dechberoucí výpravu za záhadným pokladem. V pátek 13. února je čeká cesta napříč světem i vesmírem – autem\, lodí\, letadlem… až ke hvězdám! A právě tam – ve vesmíru – potkají nového přítele Marťánka\, který jim pomůže rozluštit tajemství pokladu.\nPřipravte se na show plnou dobrodružství\, zábavy a fantazie\, kterou si vaše děti zamilují.\n\nMísto konání: Společenské centrum Dukla\, Znojmo\,\nČas: 16:00 hod.\n\nVstupenky zakoupíte v síti Tvuj ticket. Více informací naleznete na Facebooku.
LOCATION:Znojmo
END:VEVENT
END:VCALENDAR