BEGIN:VCALENDAR
VERSION:2.0
CALSCALE:GREGORIAN
PRODID:-//MyApp//Calendar 1.0//EN
BEGIN:VEVENT
METHOD:PUBLISH
UID:61378@regionalniportaly.cz
DTSTAMP:20260422T121400Z
DTSTART;VALUE=DATE:20260130
DTEND;VALUE=DATE:20260131
SUMMARY:RNZ | Papa Jazy & Kikino | Lukys666
DESCRIPTION:
LOCATION:Znojmo
END:VEVENT
END:VCALENDAR