BEGIN:VCALENDAR
VERSION:2.0
CALSCALE:GREGORIAN
PRODID:-//MyApp//Calendar 1.0//EN
BEGIN:VEVENT
METHOD:PUBLISH
UID:61605@regionalniportaly.cz
DTSTAMP:20260422T111939Z
DTSTART;VALUE=DATE:20260317
DTEND;VALUE=DATE:20260318
SUMMARY:Divadelní představení Changewyx
DESCRIPTION:Divadelní představení Changewyx popisuje silný příběh\, kde diváci 3x hlasují o dalším ději.&nbsp\;Představení je vhodné jak pro děti \, studenty tak i dospělé.&nbsp\;Více informací na www.changewyx.com
LOCATION:Znojmo
END:VEVENT
END:VCALENDAR