BEGIN:VCALENDAR
VERSION:2.0
CALSCALE:GREGORIAN
PRODID:-//MyApp//Calendar 1.0//EN
BEGIN:VEVENT
METHOD:PUBLISH
UID:62443@regionalniportaly.cz
DTSTAMP:20260422T150431Z
DTSTART;VALUE=DATE:20260307
DTEND;VALUE=DATE:20260308
SUMMARY:Chutnáme Znojmo
DESCRIPTION:Již třetí ročník akce s názvem Chutnáme Znojmo se uskuteční 7. března 2026 v Centrum Jízdárna Louckého kláštera. Čeká vás zážitková gastronomie\, nejlepší vína ze Znojemska a jedinečné místo\, kde se snoubí historie s moderními trendy.\nChcete zažít degustaci jinak a vyhnout se při tom davům? Chcete zažít komfortní ochutnávku a popovídat si o vínech s jejich tvůrci? Rádi zkoušíte netradiční pokrmy z kvalitních surovin? Pak přijďte 7. března 2026 ochutnat Znojmo. Začínáme v 17.00\, open door bude v 16.00.
LOCATION:Znojmo
END:VEVENT
END:VCALENDAR