BEGIN:VCALENDAR
VERSION:2.0
CALSCALE:GREGORIAN
PRODID:-//MyApp//Calendar 1.0//EN
BEGIN:VEVENT
METHOD:PUBLISH
UID:62546@regionalniportaly.cz
DTSTAMP:20260422T100533Z
DTSTART;VALUE=DATE:20260311
DTEND;VALUE=DATE:20260312
SUMMARY:A SPORTUJ! Beseda s prof. Pavlem Kolářem
DESCRIPTION:Sport dětem i dospělým prospívá. Ale jen tehdy\, když ho děláme správně.Exkluzivní beseda o zdraví\, pohybu\, sportu\, rodičovství a chybách\, které často myslíme dobře – ale mají opačný efekt.Projekt Podej Ruku Sportu přiváží do Znojma profesora Pavla Koláře\, předního českého fyzioterapeuta a autora konceptu Dynamická Neuromuskulární Stabilizace (DNS).Čeká vás otevřená a místy konfrontační beseda o dětském sportu\, zdraví\, pohybu\, roli rodičů i trenérů. O tom\, co děláme špatně – i jak to změnit.Beseda navazuje na přednášku v rámci projektu Podej Ruku Sportu z roku 2023 a na dlouhodobou spolupráci formou vzdělávacích kurzů DNS\, které ve Znojmě proběhnou letos už počtvrté.Pro rodiče\, trenéry a sportovní nadšence – zkrátka pro všechny\, kterým záleží na zdraví našich dětí.
LOCATION:Znojmo
END:VEVENT
END:VCALENDAR