BEGIN:VCALENDAR
VERSION:2.0
CALSCALE:GREGORIAN
PRODID:-//MyApp//Calendar 1.0//EN
BEGIN:VEVENT
METHOD:PUBLISH
UID:63063@regionalniportaly.cz
DTSTAMP:20260422T121249Z
DTSTART;VALUE=DATE:20260227
DTEND;VALUE=DATE:20260228
SUMMARY:Jazzový večer se Sakobi\, tóny z Brna\, vína z Moravy
DESCRIPTION:&nbsp\;Jazz v Podyjí&nbsp\;– večer\, kdy se nikam nespěchá.....Zveme tě na komorní jazzový večer do bistra s vinotékou schovaného v Lukově uprostřed národního parku..Čeká tě živá jazzová hudba\, &nbsp\;víno a jednoduché dobré jídlo.Žádný hluk města\, žádný spěch – jen hudba\, klid a atmosféra.Akce s podporou vinařství Stejskal\, Kolby a Reisten.Akce je určená pro ty\, kteří si chtějí užít večer v pohodě\, v menším počtu lidí a na místě\, které tě překvapí.&nbsp\;
LOCATION:Znojmo
END:VEVENT
END:VCALENDAR