BEGIN:VCALENDAR
VERSION:2.0
CALSCALE:GREGORIAN
PRODID:-//MyApp//Calendar 1.0//EN
BEGIN:VEVENT
METHOD:PUBLISH
UID:63333@regionalniportaly.cz
DTSTAMP:20260422T100116Z
DTSTART;VALUE=DATE:20260328
DTEND;VALUE=DATE:20260329
SUMMARY:Swingový ples: Ondřej Havelka a jeho Melody Makers (CZ)
DESCRIPTION:Slavnostní společenský večer swingového tance poprvé v&nbsp\;nově zrekonstruovaném sále Centra Jízdárna pod&nbsp\;taktovkou Ondřeje Havelky a&nbsp\;jeho Melody Makers. Český orchestr hrající jazz\, swing a&nbsp\;taneční hudbu z&nbsp\;20.\, 30. a&nbsp\;raných 40. let není třeba více představovat. Pestrý repertoár zahrnuje atraktivní skladby širokého žánrového spektra\, sweet and hot\, od hollywoodských muzikálů až po&nbsp\;vrcholná čísla swingových big-bandů. Stylizace koncertního show sleduje ve&nbsp\;všech detailech typické dobové způsoby\, počínaje kostýmy a&nbsp\;účesy interpretů a&nbsp\;celkovou režií představení konče.Na swingový ples může přijít opravdu každý! Pobavíte se bez ohledu na to\, zda přijdete v páru\, nebo sami. Můžete hudbu jen poslouchat\, nebo se aktivně zapojit na tanečním parketu. A opravdu nezáleží na tom\, zda umíte na swingovou hudbu tančit\, či nikoli.Upozorňujeme návštěvníky\, že vstupenky na ples v sále s místenkami u stolů jsou již vyprodané.Stále je však možné zakoupit vstupenky:na stání bez místenek\,nebo do nově rozšířeného prostoru u baru.Dovolujeme si upozornit\, že vstup do hlavního sálu z prostoru baru je veden přes spojovací chodbu.V prostoru baru bude navíc během přestávek v sále probíhat doprovodný program – těšit se můžete na příjemnou živou jazzovou hudbu.
LOCATION:Znojmo
END:VEVENT
END:VCALENDAR