BEGIN:VCALENDAR
VERSION:2.0
CALSCALE:GREGORIAN
PRODID:-//MyApp//Calendar 1.0//EN
BEGIN:VEVENT
METHOD:PUBLISH
UID:65259@regionalniportaly.cz
DTSTAMP:20260419T210741Z
DTSTART;VALUE=DATE:20260718
DTEND;VALUE=DATE:20260719
SUMMARY:Odpoledne se sommeliérem JAKUBEM PŘIBYLEM
DESCRIPTION:Dopřejte si jedinečný vinařský zážitek v doprovodu jednoho z nejuznávanějších českých sommelierů. Jakub Přibyl\, několikanásobný mistr České republiky a držitel prestižního titulu Advanced Sommelier (Court of Master Sommeliers)\, patří dlouhodobě ke špičce ve svém oboru. Zkušenosti sbíral v michelinských restauracích ve Francii i v předních podnicích v Česku a dnes působí jako wine expert a lektor.Provede vás pečlivě vybranou kolekcí vín z blízka i daleka – od známých vinařských regionů až po méně objevené poklady.Čeká vás příjemné odpoledne plné inspirace\, zajímavých příběhů z vinařského světa a především degustace výjimečných vín. Ta\, která vás nejvíce osloví\, si budete moci rovnou objednat a odnést si tak kousek zážitku i domů.Přijďte ochutnat\, poznat a nechat se provést světem vína očima skutečného profesionála.&nbsp\; &nbsp\;Kdo je Jakub Přibyl:* absolvent Vinařské akademie ve Valticích a Weinakademie Österreich* český profesionální sommerlier* dlouhodobě patří mezi aboslutní elitu v ČR i v Evropě* pracoval v top restauracích vč. michelinských podniků ve Francii* držitel prestižního titulu Advanced Sommelier (Court of Master Sommeliers)* 3x mistr ČR sommelierů* 4x nejlepší sommelier ČR* vícenásobný vítěz Bohemia Sekt Trophée (nejprestižnější soutěž u nás)* semifinalista mistrovství Evropy* nejvíce oceňovaný sommelier v ČR* 4. nejlepší sommelier Evropy a Afriky
LOCATION:Znojmo
END:VEVENT
END:VCALENDAR