BEGIN:VCALENDAR
VERSION:2.0
CALSCALE:GREGORIAN
PRODID:-//MyApp//Calendar 1.0//EN
BEGIN:VEVENT
METHOD:PUBLISH
UID:65409@regionalniportaly.cz
DTSTAMP:20260419T210750Z
DTSTART;VALUE=DATE:20260923
DTEND;VALUE=DATE:20260924
SUMMARY:TIKI TAKA na cestách - Znojmo
DESCRIPTION:Zábavná talkshow pro fanynky a fanoušky nejen fotbalu. Protagonisté populární televizní talkshow Tiki-Taka\, která má za sebou na stanici Oneplay Sport už 300 odvysílaných epizod\, vyrážejí s živou verzí pořadu do všech koutů Česka.Petr Svěcený\, Petr Švancara\, Luděk Zelenka a jejich hosté jsou připraveni servírovat fotbal prostě jinak. A hlavně vás pobavit.
LOCATION:Znojmo
END:VEVENT
END:VCALENDAR