BEGIN:VCALENDAR
VERSION:2.0
CALSCALE:GREGORIAN
PRODID:-//MyApp//Calendar 1.0//EN
BEGIN:VEVENT
METHOD:PUBLISH
UID:65497@regionalniportaly.cz
DTSTAMP:20260419T225104Z
DTSTART;VALUE=DATE:20260522
DTEND;VALUE=DATE:20260523
SUMMARY:Šperkování Znojmo 800 - benefiční módní přehlídka
DESCRIPTION:PÓDIOVÁ&nbsp\;PŘEHLÍDKA ORIGINÁLNÍ ČESKÉ AUTORSKÉ MÓDY\, ŠPERKŮ A DOPLŇKŮ.Exkluzivní kolekce inspirované výročím 800 let založení města ZNOJMA.AKCE JE POŘÁDÁNA NA PODPORU&nbsp\;Nadace pro transplantace kostní dřeně.Moderuje: Libor Čada &nbsp\;&nbsp\;Produkce: www.studio365.eu&nbsp\;Pořadatel: www.kostnidren.cz &amp\; www.artfashion.czPřehlídka&nbsp\;se koná za podpory www.znojmocity.czVSTUPENKY POUZE V ON-LINE PŘEDPRODEJI.
LOCATION:Znojmo
END:VEVENT
END:VCALENDAR