BEGIN:VCALENDAR
VERSION:2.0
CALSCALE:GREGORIAN
PRODID:-//MyApp//Calendar 1.0//EN
BEGIN:VEVENT
METHOD:PUBLISH
UID:65548@regionalniportaly.cz
DTSTAMP:20260422T120933Z
DTSTART;VALUE=DATE:20260721
DTEND;VALUE=DATE:20260722
SUMMARY:Koncert malých géniů
DESCRIPTION:Vítězové nejprestižnějších dětských hudebních soutěží přinášejí na pódium výjimečný talent\, energii a radost z hudby. Koncert představuje mladé umělce\, kteří už v raném věku dosahují obdivuhodných výkonů a slibují zářivou budoucnost na světových pódiích.Nad výběrem těchto „malých géniů“ bdí patron festivalu Pavel Šporcl\, který spolu s organizátory vybírá ty nejvýraznější osobnosti z renomovaných soutěží\, jako jsou Kocianovo Ústí\, Heranova violoncellová soutěž či Národní soutěž ZUŠ Amadeus Brno aj.Jedinečný večer plný inspirace ukazuje\, že hudební genialita nezná věkové hranice.&nbsp\;&nbsp\;
LOCATION:Znojmo
END:VEVENT
END:VCALENDAR