BEGIN:VCALENDAR
VERSION:2.0
CALSCALE:GREGORIAN
PRODID:-//MyApp//Calendar 1.0//EN
BEGIN:VEVENT
METHOD:PUBLISH
UID:65551@regionalniportaly.cz
DTSTAMP:20260420T002822Z
DTSTART;VALUE=DATE:20260723
DTEND;VALUE=DATE:20260724
SUMMARY:Koncert vítězů LŠBH
DESCRIPTION:Již tradičně ožívá kostel sv. Josefa v Jevišovicích hudbou mladých talentů\, kteří se věnují interpretaci barokní hudby na špičkové úrovni. Tento koncert je vyvrcholením Letní školy barokní hudby – inspirativního setkání studentů a lektorů z Česka i zahraničí\, kde se propojuje intenzivní studium\, mistrovské kurzy i sdílení zkušeností s historicky poučenou interpretací.Letní škola barokní hudby představuje jedinečný prostor pro rozvoj nastupující generace hudebníků. Účastníci zde pracují pod vedením renomovaných odborníků\, zdokonalují se ve hře na dobové nástroje i v pěvecké interpretaci a navazují kontakty\, které často vedou k dalším uměleckým spolupracím. Není proto náhodou\, že absolventi této školy dnes působí v předních českých i zahraničních souborech a pravidelně se vracejí jako hosté či spolupracovníci festivalu.Koncert nabídne výběr těch nejlepších účastníků posledního ročníku – laureátů závěrečného interpretačního klání – za doprovodu orchestru SILENTIUM! ensemble. Posluchači tak mají jedinečnou příležitost nahlédnout do budoucnosti barokní hudební scény.&nbsp\;ÚČINKUJÍCÍ:místo: Matyáš Houf – cinkmísto: Monika Švandová – zpěvmísto: Marie Wienroth a Andreas Seifert – clarina (duo)za doprovodu souboru orchestru SILENTIUM! ensemble&nbsp\;Odjezd autobusu od městského divadla&nbsp\;v 17:30 hodin.
LOCATION:Jevišovice
END:VEVENT
END:VCALENDAR