BEGIN:VCALENDAR
VERSION:2.0
CALSCALE:GREGORIAN
PRODID:-//MyApp//Calendar 1.0//EN
BEGIN:VEVENT
METHOD:PUBLISH
UID:65552@regionalniportaly.cz
DTSTAMP:20260419T225131Z
DTSTART;VALUE=DATE:20260715
DTEND;VALUE=DATE:20260716
SUMMARY:Industriální koncert: OSLAVA ZNOJEMSKÉ OKURKY
DESCRIPTION:Výročí 800. let města ZnojmaK historii města Znojma neodmyslitelně patří znojemská okurka. Právě jí vzdává originální poctu První vídeňský zeleninový orchestr.Přijďte zažít jedinečný večer\, kde hlavní roli nehrají housle ani klavír\, ale čerstvá zelenina. První vídeňský zeleninový orchestr proměňuje mrkve\, okurky\, papriky či dýně v nečekané hudební nástroje a vytváří fascinující zvukový svět\, který jinde neuslyšíte.Tento koncert není jen o hudbě – je to smyslová jízda. Těšte se na propojení živé performance\, vizuálních projekcí i neodolatelné vůně čerstvé zeleniny\, která prostoupí celý prostor. Každý nástroj vzniká těsně před vystoupením\, každý tón je originál.A tím to nekončí. Po posledním potlesku vás čeká netradiční tečka: společné setkání s umělci a ochutnávka polévky\, která vzniká při výrobě použítých "nástrojů"To vše v autentickém industriálním prostředí\, které dodá večeru nezaměnitelnou atmosféru.Pocta znojemské okurce – koncert\, který musíte zažít všemi smysly. 🥒🎶Koncert se uskuteční v netradičním industriálním prostředí\, které umocní výjimečnou atmosféru tohoto slavnostního večera. Vstup do areálu firmy Nevoga je možný od 18:00\, v ceně vstupenky je prohlídka podniku.Účinkuje:The Vegetable Orchestra (První vídeňský zeleninový orchestr):Jürgen BERLAKOVICH\, Verena FUCHS\, Susanna GARTMAYER\, Barbara KAISER\, Matthias MEINHARTER\, Jörg PIRINGER\, Ingrid SCHLÖGL\, Ulrich TROYER\, Stefan VOGLSINGER\, Martina WINKLERZvuk: Christina BAUER\, Lutz NERGER
LOCATION:Znojmo
END:VEVENT
END:VCALENDAR