BEGIN:VCALENDAR
VERSION:2.0
CALSCALE:GREGORIAN
PRODID:-//MyApp//Calendar 1.0//EN
BEGIN:VEVENT
METHOD:PUBLISH
UID:65559@regionalniportaly.cz
DTSTAMP:20260419T225236Z
DTSTART;VALUE=DATE:20260711
DTEND;VALUE=DATE:20260712
SUMMARY:Barokní setkání s orientální tradicí: Znojmo a Židé
DESCRIPTION:Pestrá hudební pouť spojující západní a východní hudební tradice. Tento koncert propojuje evropský barokní styl s bohatstvím orientálních melodií a rytmů\, jak je známe z oblastí Blízkého východu\, Středomoří či Balkánu. V podání mezzosopranistky Maya Amir a osmičlenného ansámblu Avventura Barroca zazní hudba od Monteverdiho až po Vivaldiho a tradiční sefardské a arabské písně\, osmanské dvorní skladby i různé lidové motivy.Kostel sv. Michala se nachází v prostoru bývalé židovské čtvrti\, která stála především podél Veselé ulice a která byla důležitou součástí Znojma. Její historie je spojena s židovskou komunitou\, která zde žila po staletí. Koncert se tak stane poctou a vzpomínkou na židovské obyvetele města Znojma\, kteří v jeho historii zažili několikeré křivdy a ústrky.Zvláštním lákadlem je neobvyklé spojení nástrojů – evropské loutny a orientálního oudu – které vytváří jedinečný zvukový svět\, jenž překračuje hranice epoch i kontinentů. Koncert ukazuje\, že i přes rozdílné kořeny sdílí hudba společný jazyk emocí\, krásy a porozumění.ÚČINKUJÍ:Maya Amir &amp\; Avventura Barrocaobsazení:Maya Amir – mezzosopran a umělecká vedoucíPouya Khoshravesh – kamančehEren Can Erol – oudEmre Can Erol – kanokakiNoam Lelior Gal – housleDarina Ablogina – barokní příčná flétnaCarolin Margraf – dvojitá harfaBeatriz Lopez Paz – viola da gambaDiego Chacón Gámez – theorba a barokní kytaraYaschar Coşkun – perkuse
LOCATION:Znojmo
END:VEVENT
END:VCALENDAR