BEGIN:VCALENDAR
VERSION:2.0
CALSCALE:GREGORIAN
PRODID:-//MyApp//Calendar 1.0//EN
BEGIN:VEVENT
METHOD:PUBLISH
UID:65574@regionalniportaly.cz
DTSTAMP:20260419T225226Z
DTSTART;VALUE=DATE:20261020
DTEND;VALUE=DATE:20261021
SUMMARY:MAOK ve Znojmě
DESCRIPTION:🎶 Maok vystoupí v Centru Jízdárna ZnojmoSlovenský hudebník Maok přiváží do Znojma koncert\, který nevzniká předem\, ale přímo na místě. Každý večer je jiný. Bez playlistu\, bez opakování.Maok pracuje s atmosférou prostoru i publikem a nechává hudbu volně plynout. Výsledkem je večer\, který vás zpomalí\, ale zároveň udrží pozornost od začátku do konce.&nbsp\;🎟️ Vyberte si své místo včas\, do konce dubna&nbsp\;za skvělou cenu.Maokovy koncerty vyhledávají zejména lidé\, kteří chtějí na chvíli vystoupit z běžného tempa a zažít hudbu jinak\, než jako kulisu.Maokova&nbsp\;hudba propojuje ambient\,&nbsp\;jemnou&nbsp\;elektroniku\,&nbsp\;akustické nástroje a zpěv do plynoucího celku\, který vás postupně vtáhne. Někdy jemná\, někdy intenzivní.&nbsp\;Prostor Jízdárny se skvělou akustikou jí dává hloubku i ticho\, ve kterém vynikne každý detail.🏛️ O místěJízdárna Louckého kláštera je výrazný historický prostor\, který dnes slouží jako kulturní centrum. Pro tento typ koncertu nabízí výjimečnou atmosféru i akustiku.
LOCATION:Znojmo
END:VEVENT
END:VCALENDAR