BEGIN:VCALENDAR
VERSION:2.0
CALSCALE:GREGORIAN
PRODID:-//MyApp//Calendar 1.0//EN
BEGIN:VEVENT
METHOD:PUBLISH
UID:65575@regionalniportaly.cz
DTSTAMP:20260419T225141Z
DTSTART;VALUE=DATE:20260711
DTEND;VALUE=DATE:20260712
SUMMARY:Festivalová stodola: Degustace festivalové kolekce vín
DESCRIPTION:Přijďte přechutnat festivalovou kolekci vín\, kterou pro vás vybral zkušený tým odborníků. V příjemném a pro víno typickém prostředí stodoly Rodinné vinařství u Stehlíků v Novém Šaldorfu budete mít možnost diskutovat nad sklenkou kvalitního moku. Občerstvení k ochutnávce zajištěno. V rámci přechutnání festivalových vín proběhne také výběr šampiona kolekce.
LOCATION:Nový Šaldorf-Sedlešovice
END:VEVENT
END:VCALENDAR