BEGIN:VCALENDAR
VERSION:2.0
CALSCALE:GREGORIAN
PRODID:-//MyApp//Calendar 1.0//EN
BEGIN:VEVENT
METHOD:PUBLISH
UID:65577@regionalniportaly.cz
DTSTAMP:20260419T225113Z
DTSTART;VALUE=DATE:20260717
DTEND;VALUE=DATE:20260718
SUMMARY:Cimbál\, víno\, hromy bijú
DESCRIPTION:Výběr písní z moravského folklóru\, v nichž se lidová poezie dotýká věčného tématu – proměnlivého počasí. Déšť\, vítr\, hromy i slunce se v písních stávají metaforou lidských nálad\, vztahů a radostí i smutků.&nbsp\;Součástí programu je recesistická přednáška prezidenta festivalu Jiřího Ludvíka inspirovaná osobností vynálezce Prokopa Diviše\, který působil v Příměticích u Znojma.Následuje beseda u cimbálu:CM Ohnica&nbsp\;Cimbálová muzika Antonína Stehlíka
LOCATION:Znojmo
END:VEVENT
END:VCALENDAR