BEGIN:VCALENDAR
VERSION:2.0
CALSCALE:GREGORIAN
PRODID:-//MyApp//Calendar 1.0//EN
BEGIN:VEVENT
METHOD:PUBLISH
UID:65865@regionalniportaly.cz
DTSTAMP:20260424T110321Z
DTSTART;VALUE=DATE:20260521
DTEND;VALUE=DATE:20260522
SUMMARY:ZUZU Kabaret ve Wasabi
DESCRIPTION:ZuZu Kabaret ve Wasabi ZnojmoDovolte si na chvíli zpomalit a vstoupit do světa\, kde se elegance setkává s fantazií a každý detail má svůj význam.ZuZu Kabaret přináší večer inspirovaný tradicí kabaretu a varieté\, který je jemně provokativní\, hravý a vizuálně podmanivý.Těšit se můžete na pečlivě komponovaný program plný burlesky\, tance\, zpěvu\, humoru i překvapivých momentů.Součástí večera je také tombola o vybrané ceny a soutěž pro diváky\, která vás vtáhne přímo do dění.Každý obraz večera je navržen tak\, aby ve vás zanechal dojem a to ne jen na chvíli\, ale ještě dlouho poté.Tento večer není jen program. Je to zážitek\, který se prožívá.Vstupenky jsou již v předprodeji. Kapacita je omezená\, doporučujeme včasnou rezervaci.Wasabi Znojmomísto\, kde se večer mění v příběh
LOCATION:Znojmo
END:VEVENT
END:VCALENDAR